BEGIN:VCALENDAR
VERSION:2.0
PRODID:-//ExpressionEngine Easy iCalendar plugin//NONSGML v2.0.1//EN
X-WR-TIMEZONE:America/New_York
X-WR-CALNAME:Upcoming Auctions
BEGIN:VEVENT
UID:152338
DTSTAMP:20251205T000000
DTSTART:20251205T000000
DTEND:20251216T190000
SUMMARY:Noah Estate
LOCATION:1244 G Noah Rd\, Graham\, NC 27253\, US
DESCRIPTION:Explore the online auction of the estate of Dr. Don W. Noah
  (deceased) featuring a wide variety of wildlife portraits\, 
 sculptures\, and décor\, plus an extensive selection of hunt
 ing clothes and equipment. You’ll also find Jack Daniel's
  collectibles\, wood slab tables\, barware\, and more! Preview 
 Monday\, December 15 from 3:30PM-5:30PM.  1244 G Noah Rd\, Gr
 aham\, NC 27253 Enter the private drive off Noah Rd. House i
 s up the hill to the left. Auction begins closing Tuesday\, 
 December 16 at 7pm. Pickup is Thursday\, December 18 from 10
 am-5pm. 1244 G Noah Rd\, Graham\, NC 27253 Enter the private d
 rive off Noah Rd. House is up the hill on the left. In add
 ition to the online auction for Dr. Noah's personal property
 \, we will also be running a separate online auction featurin
 g Dr. Noah's extensive collection of guns\, ammo\, and jewelry
 .  The second auction will run concurrently but will end on
  Wednesday\, December 17 at 7pm with pick up at our office lo
 cation in Graham on Friday\, December 19 from 11am-5pm.  
URL:https://www.eagleauctionandrealty.com/auctions/detail/bw1523
 38
SEQUENCE:1
END:VEVENT
END:VCALENDAR