BEGIN:VCALENDAR
VERSION:2.0
PRODID:-//ExpressionEngine Easy iCalendar plugin//NONSGML v2.0.1//EN
X-WR-TIMEZONE:America/New_York
X-WR-CALNAME:Upcoming Auctions
BEGIN:VEVENT
UID:153096
DTSTAMP:20251205T000000
DTSTART:20251205T000000
DTEND:20251217T190000
SUMMARY:Firearms/Ammo Jewelry Noah Estate
LOCATION:3755 Thompson Mill Road\, Graham\, NC 27253\, US
DESCRIPTION:This online auction for the Estate of Dr. Don W. Noah (decea
 sed) features an extensive collection of guns\, ammo\, knives
  and jewelry.  This runs concurrently with the personal pro
 perty that features hunting gear\, a large amount of gym equi
 pment\, and more\, but will end on Wednesday\, December 17 at 7
 pm with pick up at our office location at 3755 Thompson Mill
  Rd.\, Graham on Friday\, December 19 from 11am-5pm. 
URL:https://www.eagleauctionandrealty.com/auctions/detail/bw1530
 96
SEQUENCE:1
END:VEVENT
END:VCALENDAR