BEGIN:VCALENDAR
VERSION:2.0
PRODID:-//ExpressionEngine Easy iCalendar plugin//NONSGML v2.0.1//EN
X-WR-TIMEZONE:America/New_York
X-WR-CALNAME:Upcoming Auctions
BEGIN:VEVENT
UID:154334
DTSTAMP:20260113T110000
DTSTART:20260113T110000
DTEND:20260113T120000
SUMMARY:Court Ordered Real Estate Auctions
LOCATION:1 Court Square\, Graham\, NC 27253\, US
DESCRIPTION:1.44-acre property in sought-after Saxapahaw! Located just 2
 0 minutes from Chapel Hill\, 15 minutes to the interstate\, an
 d 2 minutes to the Saxapahaw General Store - Haw River\, trai
 ls\, music\, and local dining. Existing house sold as-is—ide
 al for renovation\, investment\, or new build. Great opportuni
 ty in a prime rural location with easy access to town amenit
 ies. 2731 Saxapahaw Bethlehem Rd\, Graham\, NC.   Bid online 
 now thru January 13 at 11am!  
URL:https://www.eagleauctionandrealty.com/auctions/detail/bw1543
 34
SEQUENCE:1
END:VEVENT
END:VCALENDAR