BEGIN:VCALENDAR
VERSION:2.0
PRODID:-//ExpressionEngine Easy iCalendar plugin//NONSGML v2.0.1//EN
X-WR-TIMEZONE:America/New_York
X-WR-CALNAME:Upcoming Auctions
BEGIN:VEVENT
UID:154350
DTSTAMP:20260103T000000
DTSTART:20260103T000000
DTEND:20260120T190000
SUMMARY:Phyllis Oakley Estate
LOCATION:2202 Huntington Road Unit F-3\, Burlington\, NC 27215\, US
DESCRIPTION:Explore the online auction of the estate of Phyllis Oakley (
 living) featuring gold\, silver\, currency\, jewelry\, home furn
 ishings and décor\, and a 2005 Toyota Corolla with just 55\,8
 00 miles. Preview by appointment only - please contact us at
  office@eagleauctionpro.com or call or text 336-222-9022. Pi
 ck up one day only - Thursday\, January 22 from 10am - 5pm. 2
 202 Unit F Huntington Dr\, Burlington\, NC 27215. All winning 
 bidders should come prepared with boxes/bins and packing mat
 erials to transport their items home safely. Bring all labor
  required to load heavy/large items. Staff is not permitted 
 to help load due to insurance liability. A $50 fee applies 
 to schedule an alternative pick-up time outside the schedul
 ed pick-up hours.  Buyers who do not call to reschedule wit
 hin 48 hrs of auction closing forfeit their items.  
URL:https://www.eagleauctionandrealty.com/auctions/detail/bw1543
 50
SEQUENCE:1
END:VEVENT
END:VCALENDAR