BEGIN:VCALENDAR
VERSION:2.0
PRODID:-//ExpressionEngine Easy iCalendar plugin//NONSGML v2.0.1//EN
X-WR-TIMEZONE:America/New_York
X-WR-CALNAME:Upcoming Auctions
BEGIN:VEVENT
UID:156538
DTSTAMP:20260212T180000
DTSTART:20260212T180000
DTEND:20260224T190000
SUMMARY:Multi  Estates February
LOCATION:3755 Thompson Mill Road\, Graham\, NC 27253\, US
DESCRIPTION:  Preview by appointment only - please contact us at office
 @eagleauctionpro.com or call or text 336-222-9022. Pick up o
 ne day only - Thursday\, February 26 from 10am - 5pm at 3755
  Thompson Mill Rd\, Graham.  All winning bidders should come
  prepared with boxes/bins and packing materials to transport
  their items home safely. Bring all labor required to load h
 eavy/large items. Staff is not permitted to help load due to
  insurance liability. A $50 fee applies to schedule an alte
 rnative pick-up time outside the scheduled pick-up hours. I
 f this occurs\, these items still must be picked up within th
 ree days.   Buyers who do not call to reschedule within 48
  hrs of auction closing forfeit their items.  
URL:https://www.eagleauctionandrealty.com/auctions/detail/bw1565
 38
SEQUENCE:1
END:VEVENT
END:VCALENDAR