BEGIN:VCALENDAR
VERSION:2.0
PRODID:-//ExpressionEngine Easy iCalendar plugin//NONSGML v2.0.0//EN
X-WR-TIMEZONE:America/New_York
X-WR-CALNAME:Upcoming Auctions
BEGIN:VEVENT
UID:160490
DTSTAMP:20260415T120000
DTSTART:20260415T120000
DTEND:20260519T100000
SUMMARY:Court Ordered Real Estate Auction
LOCATION:3755 Thompson Mill Rd\, Graham\, NC 27253\, US
DESCRIPTION:Court Ordered Real Estate Auctions (10 day upset period)   
    
URL:https://www.eagleauctionandrealty.com/auctions/detail/bw1604
 90
SEQUENCE:1
END:VEVENT
END:VCALENDAR